BEGIN:VCALENDAR
VERSION:2.0
PRODID:-//Little Flock - ECPv6.15.20//NONSGML v1.0//EN
CALSCALE:GREGORIAN
METHOD:PUBLISH
X-ORIGINAL-URL:https://littleflock.com
X-WR-CALDESC:Events for Little Flock
REFRESH-INTERVAL;VALUE=DURATION:PT1H
X-Robots-Tag:noindex
X-PUBLISHED-TTL:PT1H
BEGIN:VTIMEZONE
TZID:UTC
BEGIN:STANDARD
TZOFFSETFROM:+0000
TZOFFSETTO:+0000
TZNAME:UTC
DTSTART:20240101T000000
END:STANDARD
END:VTIMEZONE
BEGIN:VEVENT
DTSTART;TZID=UTC:20250108T183000
DTEND;TZID=UTC:20250108T200000
DTSTAMP:20260421T081309
CREATED:20250107T184040Z
LAST-MODIFIED:20250107T184040Z
UID:1190-1736361000-1736366400@littleflock.com
SUMMARY:Wednesday Activities Canceled - January 8
DESCRIPTION:📢 Important Update!\n\n\n \n\n\nDue to lingering weather conditions\, all Wednesday activities at Little Flock for January 8th have been canceled. \n\n\n❄️ Stay safe and warm!\n\n\n \n\n\nWe’ll be back next week on January 15th with all regular activities. See you then!
URL:https://littleflock.com/event/wednesday-activities-canceled-january-8/
LOCATION:Little Flock Baptist Church\, 5510 N. Preston Highway\, Shepherdsville\, KY\, 40165\, United States
CATEGORIES:Bible Studies,LF Kidz,Wednesday Dinners
ATTACH;FMTTYPE=image/png:https://littleflock.com/wp-content/uploads/2025/01/Wednesday-Canceled-WEB.png
END:VEVENT
END:VCALENDAR