BEGIN:VCALENDAR
VERSION:2.0
PRODID:-//Little Flock - ECPv6.15.20//NONSGML v1.0//EN
CALSCALE:GREGORIAN
METHOD:PUBLISH
X-ORIGINAL-URL:https://littleflock.com
X-WR-CALDESC:Events for Little Flock
REFRESH-INTERVAL;VALUE=DURATION:PT1H
X-Robots-Tag:noindex
X-PUBLISHED-TTL:PT1H
BEGIN:VTIMEZONE
TZID:America/Kentucky/Louisville
BEGIN:DAYLIGHT
TZOFFSETFROM:-0500
TZOFFSETTO:-0400
TZNAME:EDT
DTSTART:20240310T070000
END:DAYLIGHT
BEGIN:STANDARD
TZOFFSETFROM:-0400
TZOFFSETTO:-0500
TZNAME:EST
DTSTART:20241103T060000
END:STANDARD
BEGIN:DAYLIGHT
TZOFFSETFROM:-0500
TZOFFSETTO:-0400
TZNAME:EDT
DTSTART:20250309T070000
END:DAYLIGHT
BEGIN:STANDARD
TZOFFSETFROM:-0400
TZOFFSETTO:-0500
TZNAME:EST
DTSTART:20251102T060000
END:STANDARD
BEGIN:DAYLIGHT
TZOFFSETFROM:-0500
TZOFFSETTO:-0400
TZNAME:EDT
DTSTART:20260308T070000
END:DAYLIGHT
BEGIN:STANDARD
TZOFFSETFROM:-0400
TZOFFSETTO:-0500
TZNAME:EST
DTSTART:20261101T060000
END:STANDARD
END:VTIMEZONE
BEGIN:VEVENT
DTSTART;VALUE=DATE:20250730
DTEND;VALUE=DATE:20250901
DTSTAMP:20260422T152943
CREATED:20250730T210557Z
LAST-MODIFIED:20250805T201421Z
UID:1811-1753833600-1756684799@littleflock.com
SUMMARY:Ushers Needed
DESCRIPTION:Help us make room for others to know Jesus! We’re looking for 20 volunteers to serve once a month on our Usher Team. It’s a small commitment that makes a big impact—helping guests feel welcome and find a seat as they enter worship. \nServe once a monthOnly stay through the first songStill attend your group and worship \nInterested?Speak with someone at Next StepsText Mike at 502-297-1788Email MikeR@littleflock.com
URL:https://littleflock.com/event/ushers-needed/
ATTACH;FMTTYPE=image/png:https://littleflock.com/wp-content/uploads/2025/07/Ushers-Needed-WEB-scaled.png
END:VEVENT
BEGIN:VEVENT
DTSTART;VALUE=DATE:20250801
DTEND;VALUE=DATE:20250803
DTSTAMP:20260422T152943
CREATED:20250716T190850Z
LAST-MODIFIED:20250716T190850Z
UID:1758-1754006400-1754179199@littleflock.com
SUMMARY:Cultivate Women's Conference
DESCRIPTION:Ladies of Little Flock! \nYou’re invited to the Cultivate Women’s Conference—a special two-day event designed to equip and encourage women who serve the church. \nAugust 1-2Little Flock Worship Center \nEnjoy a reduced rate of $39 for the full event by selecting Individual Registration and using promo code LittleFlock at checkout. \nRegister now at kybaptist.org/cultivateOr scan the QR code on the graphic! \nLet’s grow together as we serve together!
URL:https://littleflock.com/event/cultivate-womens-conference/
LOCATION:Little Flock Baptist Church\, 5510 N. Preston Highway\, Shepherdsville\, KY\, 40165\, United States
ATTACH;FMTTYPE=image/png:https://littleflock.com/wp-content/uploads/2025/07/Cultivate-WEB-scaled.png
END:VEVENT
END:VCALENDAR