BEGIN:VCALENDAR
VERSION:2.0
PRODID:-//Little Flock - ECPv6.15.20//NONSGML v1.0//EN
CALSCALE:GREGORIAN
METHOD:PUBLISH
X-ORIGINAL-URL:https://littleflock.com
X-WR-CALDESC:Events for Little Flock
REFRESH-INTERVAL;VALUE=DURATION:PT1H
X-Robots-Tag:noindex
X-PUBLISHED-TTL:PT1H
BEGIN:VTIMEZONE
TZID:UTC
BEGIN:STANDARD
TZOFFSETFROM:+0000
TZOFFSETTO:+0000
TZNAME:UTC
DTSTART:20240101T000000
END:STANDARD
END:VTIMEZONE
BEGIN:VEVENT
DTSTART;TZID=UTC:20250813T183000
DTEND;TZID=UTC:20250813T193000
DTSTAMP:20260420T164709
CREATED:20250104T014422Z
LAST-MODIFIED:20250721T212653Z
UID:1167-1755109800-1755113400@littleflock.com
SUMMARY:Rooted Study
DESCRIPTION:LF Family\, have you participated in a Rooted study yet? \nNo matter how long you’ve been following Jesus\, this study is for YOU! Rooted is a powerful opportunity to grow deeper in your faith\, connect with others\, and truly know Jesus—not just know about Him. \nOur next round of Rooted Groups launches Wednesday\, August 13 at 6:30 PM.Led by:Pastor Mike – Room 133Robert Johnson – Room 135Nunnie Logsdon – Room 131 \nRegister at: https://bit.ly/lfdiscipleship \nCome get Rooted—in God\, the Church\, and your Purpose.
URL:https://littleflock.com/event/rooted-class/
LOCATION:Little Flock Baptist Church\, 5510 N. Preston Highway\, Shepherdsville\, KY\, 40165\, United States
CATEGORIES:Bible Studies,Discipleship
ATTACH;FMTTYPE=image/png:https://littleflock.com/wp-content/uploads/2025/01/Rooted-Fall-25-WEB.png
END:VEVENT
END:VCALENDAR