BEGIN:VCALENDAR
VERSION:2.0
PRODID:-//Little Flock - ECPv6.15.20//NONSGML v1.0//EN
CALSCALE:GREGORIAN
METHOD:PUBLISH
X-WR-CALNAME:Little Flock
X-ORIGINAL-URL:https://littleflock.com
X-WR-CALDESC:Events for Little Flock
REFRESH-INTERVAL;VALUE=DURATION:PT1H
X-Robots-Tag:noindex
X-PUBLISHED-TTL:PT1H
BEGIN:VTIMEZONE
TZID:America/Kentucky/Louisville
BEGIN:DAYLIGHT
TZOFFSETFROM:-0500
TZOFFSETTO:-0400
TZNAME:EDT
DTSTART:20250309T070000
END:DAYLIGHT
BEGIN:STANDARD
TZOFFSETFROM:-0400
TZOFFSETTO:-0500
TZNAME:EST
DTSTART:20251102T060000
END:STANDARD
BEGIN:DAYLIGHT
TZOFFSETFROM:-0500
TZOFFSETTO:-0400
TZNAME:EDT
DTSTART:20260308T070000
END:DAYLIGHT
BEGIN:STANDARD
TZOFFSETFROM:-0400
TZOFFSETTO:-0500
TZNAME:EST
DTSTART:20261101T060000
END:STANDARD
BEGIN:DAYLIGHT
TZOFFSETFROM:-0500
TZOFFSETTO:-0400
TZNAME:EDT
DTSTART:20270314T070000
END:DAYLIGHT
BEGIN:STANDARD
TZOFFSETFROM:-0400
TZOFFSETTO:-0500
TZNAME:EST
DTSTART:20271107T060000
END:STANDARD
END:VTIMEZONE
BEGIN:VTIMEZONE
TZID:UTC
BEGIN:STANDARD
TZOFFSETFROM:+0000
TZOFFSETTO:+0000
TZNAME:UTC
DTSTART:20250101T000000
END:STANDARD
END:VTIMEZONE
BEGIN:VEVENT
DTSTART;TZID=America/Kentucky/Louisville:20260213T180000
DTEND;TZID=America/Kentucky/Louisville:20260213T200000
DTSTAMP:20260423T013450
CREATED:20260111T144535Z
LAST-MODIFIED:20260126T182712Z
UID:2237-1771005600-1771012800@littleflock.com
SUMMARY:LF Students: Galentines / Palentines Day
DESCRIPTION:LF Students Galentine’s & Palentine’s Day Party \nMiddle school and high school students get ready for a high energy Boys vs Girls challenge night. Games\, battles\, competition\, and bragging rights are all on the line. \nFriday\, February 13\n6:00–8:00 PM\n$5 per student \nGirls (Galentine’s Day): The Loft\nGuys (Palentine’s Day): The Commons \nExpect worship\, a short devotional\, intense games and challenges\, tons of laughs\, and an unforgettable night with friends. \nRegister in advance using the link or QR code on the graphic. \nRegister here: https://bit.ly/LFgalpal \nBring your friends. Bring the energy. We’ll see you there.
URL:https://littleflock.com/event/lf-students-galentines-palentines-day/
LOCATION:Little Flock Baptist Church\, 5510 N. Preston Highway\, Shepherdsville\, KY\, 40165\, United States
CATEGORIES:LF Students
ATTACH;FMTTYPE=image/png:https://littleflock.com/wp-content/uploads/2026/01/Galentines.Palentines-4-1-scaled.png
END:VEVENT
BEGIN:VEVENT
DTSTART;TZID=UTC:20260222T080000
DTEND;TZID=UTC:20260222T170000
DTSTAMP:20260423T013450
CREATED:20250105T233718Z
LAST-MODIFIED:20260111T163318Z
UID:1186-1771747200-1771779600@littleflock.com
SUMMARY:LF Student Camp Pre-Registration Jan 4-Feb 22
DESCRIPTION:LF Student Summer Camp 2026! \nWe are excited to share important details for LF Student Camp Pre-Registration\, happening January 4–February 22. Registration is now open—secure your student’s spot early and be part of an unforgettable week of worship\, teaching\, and fun at Crossings Cedarmore. \nMiddle School CampJune 21–25\, 2026$392 total | $140 due at registration\nRegister at: https://bit.ly/LFMSSUMMERCAMP \nHigh School CampJune 25–29\, 2026$392 total | $140 due at registration\nRegister at: https://bit.ly/LFHSSUMMERCAMP \nSpots are limited\, and pre-registration is the best way to ensure your student can attend. We encourage families to register as soon as possible to reserve their place. \nRegister now and save the date—we can’t wait for another incredible summer with our LF Students!
URL:https://littleflock.com/event/lf-student-camp-registration-jan-5-feb-23/
LOCATION:KY
CATEGORIES:LF Students
ATTACH;FMTTYPE=image/png:https://littleflock.com/wp-content/uploads/2025/01/Student-Camp-2026-1-1.png
END:VEVENT
END:VCALENDAR