BEGIN:VCALENDAR
VERSION:2.0
PRODID:-//Little Flock - ECPv6.15.20//NONSGML v1.0//EN
CALSCALE:GREGORIAN
METHOD:PUBLISH
X-WR-CALNAME:Little Flock
X-ORIGINAL-URL:https://littleflock.com
X-WR-CALDESC:Events for Little Flock
REFRESH-INTERVAL;VALUE=DURATION:PT1H
X-Robots-Tag:noindex
X-PUBLISHED-TTL:PT1H
BEGIN:VTIMEZONE
TZID:America/Kentucky/Louisville
BEGIN:DAYLIGHT
TZOFFSETFROM:-0500
TZOFFSETTO:-0400
TZNAME:EDT
DTSTART:20240310T070000
END:DAYLIGHT
BEGIN:STANDARD
TZOFFSETFROM:-0400
TZOFFSETTO:-0500
TZNAME:EST
DTSTART:20241103T060000
END:STANDARD
BEGIN:DAYLIGHT
TZOFFSETFROM:-0500
TZOFFSETTO:-0400
TZNAME:EDT
DTSTART:20250309T070000
END:DAYLIGHT
BEGIN:STANDARD
TZOFFSETFROM:-0400
TZOFFSETTO:-0500
TZNAME:EST
DTSTART:20251102T060000
END:STANDARD
BEGIN:DAYLIGHT
TZOFFSETFROM:-0500
TZOFFSETTO:-0400
TZNAME:EDT
DTSTART:20260308T070000
END:DAYLIGHT
BEGIN:STANDARD
TZOFFSETFROM:-0400
TZOFFSETTO:-0500
TZNAME:EST
DTSTART:20261101T060000
END:STANDARD
END:VTIMEZONE
BEGIN:VEVENT
DTSTART;VALUE=DATE:20250730
DTEND;VALUE=DATE:20250731
DTSTAMP:20260420T093957
CREATED:20250601T135013Z
LAST-MODIFIED:20250709T171051Z
UID:1664-1753833600-1753919999@littleflock.com
SUMMARY:LF Students Summer in July
DESCRIPTION:ATTENTION MIDDLE & HIGH SCHOOL STUDENTS\nSUMMER IS FINALLY HERE — and we’ve got BIG plans for July! \nCheck out all the awesome events happening this summer and make sure to get registered! You don’t want to miss out on the fun. We can’t wait to spend the summer with YOU! \nMiddle School Pool Party\nWednesday\, July 9 | 6:00–8:00 PM\nHornbeck’s Home | 12406 Somerset Dr\n$5 for food & drinks\nRegister: https://bit.ly/MSPoolParty \nHigh School Ice Cream Social @ Barrel of Fun\nWednesday\, July 16 | 6:30 PM\n9421 Smyrna Pkwy\, Louisville\nBring $ for food\nNo registration required \nTopGolf & Chick-fil-A Night\nWednesday\, July 30 | 3:30–8:15 PM\nMeet in Café at 3:30 PM\n$20 for golf + bring money for dinner\nRegister: https://bit.ly/SMTOPGOLFCFA \nDon’t forget to tag us and bring your friends — let’s make this summer unforgettable!
URL:https://littleflock.com/event/lf-students-summer-in-july/
LOCATION:KY
CATEGORIES:LF Students
ATTACH;FMTTYPE=image/png:https://littleflock.com/wp-content/uploads/2025/06/SM-Students-July-WEB.png
END:VEVENT
END:VCALENDAR