BEGIN:VCALENDAR
VERSION:2.0
PRODID:-//Little Flock - ECPv6.15.20//NONSGML v1.0//EN
CALSCALE:GREGORIAN
METHOD:PUBLISH
X-ORIGINAL-URL:https://littleflock.com
X-WR-CALDESC:Events for Little Flock
REFRESH-INTERVAL;VALUE=DURATION:PT1H
X-Robots-Tag:noindex
X-PUBLISHED-TTL:PT1H
BEGIN:VTIMEZONE
TZID:America/Kentucky/Louisville
BEGIN:DAYLIGHT
TZOFFSETFROM:-0500
TZOFFSETTO:-0400
TZNAME:EDT
DTSTART:20250309T070000
END:DAYLIGHT
BEGIN:STANDARD
TZOFFSETFROM:-0400
TZOFFSETTO:-0500
TZNAME:EST
DTSTART:20251102T060000
END:STANDARD
BEGIN:DAYLIGHT
TZOFFSETFROM:-0500
TZOFFSETTO:-0400
TZNAME:EDT
DTSTART:20260308T070000
END:DAYLIGHT
BEGIN:STANDARD
TZOFFSETFROM:-0400
TZOFFSETTO:-0500
TZNAME:EST
DTSTART:20261101T060000
END:STANDARD
BEGIN:DAYLIGHT
TZOFFSETFROM:-0500
TZOFFSETTO:-0400
TZNAME:EDT
DTSTART:20270314T070000
END:DAYLIGHT
BEGIN:STANDARD
TZOFFSETFROM:-0400
TZOFFSETTO:-0500
TZNAME:EST
DTSTART:20271107T060000
END:STANDARD
END:VTIMEZONE
BEGIN:VEVENT
DTSTART;TZID=America/Kentucky/Louisville:20260104T104500
DTEND;TZID=America/Kentucky/Louisville:20260104T114500
DTSTAMP:20260422T101902
CREATED:20251217T130408Z
LAST-MODIFIED:20251217T130408Z
UID:2167-1767523500-1767527100@littleflock.com
SUMMARY:LF Students: Starting Point Class
DESCRIPTION:Middle & High School Students: Do you want to grow in your relationship with Christ? Are you a new Christian or have questions about what we believe? \nStarting Point Class for Students is a great place to begin. This 4-week class is designed to help students learn the basics of the Christian faith\, understand what we believe at Little Flock\, and take meaningful next steps in their walk with Christ. \nStarts Sunday\, January 410:45 AMThe Loft4-Week Class \nRegister today: https://bit.ly/SMStartingPointLF
URL:https://littleflock.com/event/lf-students-starting-point-class/
LOCATION:Little Flock Baptist Church\, 5510 N. Preston Highway\, Shepherdsville\, KY\, 40165\, United States
CATEGORIES:LF Students
ATTACH;FMTTYPE=image/png:https://littleflock.com/wp-content/uploads/2025/12/Starting-Point-Students-4.png
END:VEVENT
END:VCALENDAR