BEGIN:VCALENDAR
VERSION:2.0
PRODID:-//Little Flock - ECPv6.15.20//NONSGML v1.0//EN
CALSCALE:GREGORIAN
METHOD:PUBLISH
X-WR-CALNAME:Little Flock
X-ORIGINAL-URL:https://littleflock.com
X-WR-CALDESC:Events for Little Flock
REFRESH-INTERVAL;VALUE=DURATION:PT1H
X-Robots-Tag:noindex
X-PUBLISHED-TTL:PT1H
BEGIN:VTIMEZONE
TZID:America/Kentucky/Louisville
BEGIN:DAYLIGHT
TZOFFSETFROM:-0500
TZOFFSETTO:-0400
TZNAME:EDT
DTSTART:20250309T070000
END:DAYLIGHT
BEGIN:STANDARD
TZOFFSETFROM:-0400
TZOFFSETTO:-0500
TZNAME:EST
DTSTART:20251102T060000
END:STANDARD
BEGIN:DAYLIGHT
TZOFFSETFROM:-0500
TZOFFSETTO:-0400
TZNAME:EDT
DTSTART:20260308T070000
END:DAYLIGHT
BEGIN:STANDARD
TZOFFSETFROM:-0400
TZOFFSETTO:-0500
TZNAME:EST
DTSTART:20261101T060000
END:STANDARD
BEGIN:DAYLIGHT
TZOFFSETFROM:-0500
TZOFFSETTO:-0400
TZNAME:EDT
DTSTART:20270314T070000
END:DAYLIGHT
BEGIN:STANDARD
TZOFFSETFROM:-0400
TZOFFSETTO:-0500
TZNAME:EST
DTSTART:20271107T060000
END:STANDARD
END:VTIMEZONE
BEGIN:VEVENT
DTSTART;TZID=America/Kentucky/Louisville:20260107T183000
DTEND;TZID=America/Kentucky/Louisville:20260107T200000
DTSTAMP:20260422T173610
CREATED:20250723T213354Z
LAST-MODIFIED:20251217T221303Z
UID:1789-1767810600-1767816000@littleflock.com
SUMMARY:LF Students: Night of Worship
DESCRIPTION:As we step into 2026\, LF Students is kicking things off with a powerful Night of Worship. This is an opportunity for our middle and high school students to pause\, reset their hearts\, and begin the year centered on Christ. \nWednesday\, January 7\, 20266:30–8:00 PMWorship Center \nWe look forward to gathering together to lift our voices\, spend time in God’s presence\, and seek Him as we begin a new season. Invite a friend and join us as we start the year focused on worship\, truth\, and community. \nNOTE: Large Group Bible Study will be held in the theater for January 7\, 2026.
URL:https://littleflock.com/event/lf-students-night-of-worship/
LOCATION:Little Flock Baptist Church\, 5510 N. Preston Highway\, Shepherdsville\, KY\, 40165\, United States
CATEGORIES:LF Students
ATTACH;FMTTYPE=image/png:https://littleflock.com/wp-content/uploads/2025/07/Students-Night-of-Worship-Jan-7-3-scaled.png
END:VEVENT
END:VCALENDAR