BEGIN:VCALENDAR
VERSION:2.0
PRODID:-//Little Flock - ECPv6.15.20//NONSGML v1.0//EN
CALSCALE:GREGORIAN
METHOD:PUBLISH
X-ORIGINAL-URL:https://littleflock.com
X-WR-CALDESC:Events for Little Flock
REFRESH-INTERVAL;VALUE=DURATION:PT1H
X-Robots-Tag:noindex
X-PUBLISHED-TTL:PT1H
BEGIN:VTIMEZONE
TZID:America/Kentucky/Louisville
BEGIN:DAYLIGHT
TZOFFSETFROM:-0500
TZOFFSETTO:-0400
TZNAME:EDT
DTSTART:20250309T070000
END:DAYLIGHT
BEGIN:STANDARD
TZOFFSETFROM:-0400
TZOFFSETTO:-0500
TZNAME:EST
DTSTART:20251102T060000
END:STANDARD
BEGIN:DAYLIGHT
TZOFFSETFROM:-0500
TZOFFSETTO:-0400
TZNAME:EDT
DTSTART:20260308T070000
END:DAYLIGHT
BEGIN:STANDARD
TZOFFSETFROM:-0400
TZOFFSETTO:-0500
TZNAME:EST
DTSTART:20261101T060000
END:STANDARD
BEGIN:DAYLIGHT
TZOFFSETFROM:-0500
TZOFFSETTO:-0400
TZNAME:EDT
DTSTART:20270314T070000
END:DAYLIGHT
BEGIN:STANDARD
TZOFFSETFROM:-0400
TZOFFSETTO:-0500
TZNAME:EST
DTSTART:20271107T060000
END:STANDARD
END:VTIMEZONE
BEGIN:VEVENT
DTSTART;TZID=America/Kentucky/Louisville:20260517T090000
DTEND;TZID=America/Kentucky/Louisville:20260517T233000
DTSTAMP:20260420T105649
CREATED:20250326T195356Z
LAST-MODIFIED:20260412T140551Z
UID:1522-1779008400-1779060600@littleflock.com
SUMMARY:2026 Graduate Recognition
DESCRIPTION:We love celebrating milestones at Little Flock—and graduation is such a special one! \nIf you are a graduate or have a high school or college graduate in your family\, we would be honored to recognize them during our upcoming Graduate Recognition. \nThis is a meaningful opportunity to celebrate their hard work\, accomplishments\, and the next chapter God is leading them into. \nGraduate Recognition: Sunday\, May 17 \nTo participate:• Send a photo of your graduate to kimh@littleflock.com• Register here: https://bit.ly/GRADRECOGNITION26 \nRegistration opens April 12 and closes May 10 \nLet’s come together as a church family to celebrate and encourage these graduates as they step into what’s next! \n#LittleFlock #GraduateRecognition #CelebrateTogether #DifferenceMaker \n 
URL:https://littleflock.com/event/2025-graduate-recognition/
LOCATION:Little Flock Baptist Church\, 5510 N. Preston Highway\, Shepherdsville\, KY\, 40165\, United States
CATEGORIES:LF Students
ATTACH;FMTTYPE=image/png:https://littleflock.com/wp-content/uploads/2025/03/Graduate-Recognition-2026-4.png
END:VEVENT
END:VCALENDAR