BEGIN:VCALENDAR
VERSION:2.0
PRODID:-//Little Flock - ECPv6.15.20//NONSGML v1.0//EN
CALSCALE:GREGORIAN
METHOD:PUBLISH
X-WR-CALNAME:Little Flock
X-ORIGINAL-URL:https://littleflock.com
X-WR-CALDESC:Events for Little Flock
REFRESH-INTERVAL;VALUE=DURATION:PT1H
X-Robots-Tag:noindex
X-PUBLISHED-TTL:PT1H
BEGIN:VTIMEZONE
TZID:America/Kentucky/Louisville
BEGIN:DAYLIGHT
TZOFFSETFROM:-0500
TZOFFSETTO:-0400
TZNAME:EDT
DTSTART:20240310T070000
END:DAYLIGHT
BEGIN:STANDARD
TZOFFSETFROM:-0400
TZOFFSETTO:-0500
TZNAME:EST
DTSTART:20241103T060000
END:STANDARD
BEGIN:DAYLIGHT
TZOFFSETFROM:-0500
TZOFFSETTO:-0400
TZNAME:EDT
DTSTART:20250309T070000
END:DAYLIGHT
BEGIN:STANDARD
TZOFFSETFROM:-0400
TZOFFSETTO:-0500
TZNAME:EST
DTSTART:20251102T060000
END:STANDARD
BEGIN:DAYLIGHT
TZOFFSETFROM:-0500
TZOFFSETTO:-0400
TZNAME:EDT
DTSTART:20260308T070000
END:DAYLIGHT
BEGIN:STANDARD
TZOFFSETFROM:-0400
TZOFFSETTO:-0500
TZNAME:EST
DTSTART:20261101T060000
END:STANDARD
END:VTIMEZONE
BEGIN:VEVENT
DTSTART;TZID=America/Kentucky/Louisville:20251213T180000
DTEND;TZID=America/Kentucky/Louisville:20251213T200000
DTSTAMP:20260423T195909
CREATED:20251123T191437Z
LAST-MODIFIED:20251123T195622Z
UID:2104-1765648800-1765656000@littleflock.com
SUMMARY:LF Young Adults: Ugly Sweater Christmas Party
DESCRIPTION:LF Young Adults ages 18-29; Get ready for some festive fun! Our Young Adults Ugly Sweater Christmas Party is right around the corner\, and we can’t wait to celebrate together. \nSaturday\, December 136:00 PMThe Loft \nWear your most wonderfully terrible Christmas sweater and come enjoy a night of laughter\, community\, and Christmas cheer. \nWe’ll see you there!
URL:https://littleflock.com/event/lf-young-adults-ugly-sweater-christmas-party/
LOCATION:Little Flock Baptist Church\, 5510 N. Preston Highway\, Shepherdsville\, KY\, 40165\, United States
CATEGORIES:LF Young Adults
ATTACH;FMTTYPE=image/png:https://littleflock.com/wp-content/uploads/2025/11/Young-Adult-Ugly-Sweater-Party-4-scaled.png
END:VEVENT
BEGIN:VEVENT
DTSTART;TZID=America/Kentucky/Louisville:20251231T200000
DTEND;TZID=America/Kentucky/Louisville:20251231T200000
DTSTAMP:20260423T195909
CREATED:20251201T142206Z
LAST-MODIFIED:20251201T142242Z
UID:2135-1767211200-1767211200@littleflock.com
SUMMARY:LF Young Adults New Year's Eve Party
DESCRIPTION:LF Young Adults New Year’s Eve Party! \nRing in 2026 with purpose\, community\, and celebration at Little Flock! Join us on Wednesday\, December 31\, 2025\, from 8:00 PM – 12:00 AM in the LF Student Commons for a night designed just for our Young Adult community (ages 18–29). \nExpect an unforgettable evening featuring: \n\n\nMeaningful fellowship \n\n\nHigh-energy fun \n\n\nA welcoming space to connect \n\n\nA fresh start rooted in hope \n\n\nLet’s celebrate the new year together\, encouraged and expectant for what God will do next.Invite a friend\, make plans\, and come ready to ring in the new year with joy!
URL:https://littleflock.com/event/lf-young-adults-new-years-eve-party/
LOCATION:Little Flock Baptist Church\, 5510 N. Preston Highway\, Shepherdsville\, KY\, 40165\, United States
CATEGORIES:Fellowships,LF Young Adults
ATTACH;FMTTYPE=image/png:https://littleflock.com/wp-content/uploads/2025/12/Young-Adult-New-Years-Eve-Promo-Nov-30-3-scaled.png
END:VEVENT
END:VCALENDAR