BEGIN:VCALENDAR
VERSION:2.0
PRODID:-//Little Flock - ECPv6.15.20//NONSGML v1.0//EN
CALSCALE:GREGORIAN
METHOD:PUBLISH
X-ORIGINAL-URL:https://littleflock.com
X-WR-CALDESC:Events for Little Flock
REFRESH-INTERVAL;VALUE=DURATION:PT1H
X-Robots-Tag:noindex
X-PUBLISHED-TTL:PT1H
BEGIN:VTIMEZONE
TZID:America/Kentucky/Louisville
BEGIN:DAYLIGHT
TZOFFSETFROM:-0500
TZOFFSETTO:-0400
TZNAME:EDT
DTSTART:20240310T070000
END:DAYLIGHT
BEGIN:STANDARD
TZOFFSETFROM:-0400
TZOFFSETTO:-0500
TZNAME:EST
DTSTART:20241103T060000
END:STANDARD
BEGIN:DAYLIGHT
TZOFFSETFROM:-0500
TZOFFSETTO:-0400
TZNAME:EDT
DTSTART:20250309T070000
END:DAYLIGHT
BEGIN:STANDARD
TZOFFSETFROM:-0400
TZOFFSETTO:-0500
TZNAME:EST
DTSTART:20251102T060000
END:STANDARD
BEGIN:DAYLIGHT
TZOFFSETFROM:-0500
TZOFFSETTO:-0400
TZNAME:EDT
DTSTART:20260308T070000
END:DAYLIGHT
BEGIN:STANDARD
TZOFFSETFROM:-0400
TZOFFSETTO:-0500
TZNAME:EST
DTSTART:20261101T060000
END:STANDARD
END:VTIMEZONE
BEGIN:VEVENT
DTSTART;TZID=America/Kentucky/Louisville:20250406T090000
DTEND;TZID=America/Kentucky/Louisville:20250406T233000
DTSTAMP:20260422T174302
CREATED:20250401T122921Z
LAST-MODIFIED:20250401T122921Z
UID:1545-1743930000-1743982200@littleflock.com
SUMMARY:Why The Cross Sermon Series
DESCRIPTION:New Sermon Series: “Why The Cross?” \nAs we enter this season of Easter\, we reflect on the incredible sacrifice and victory of King Jesus—who died on the cross and rose again for us. \nJoin us on Sunday\, April 6\, as Pastor Nate begins our new sermon series\, “Why The Cross?” \nGather your family and come worship our Savior with us!
URL:https://littleflock.com/event/why-the-cross-sermon-series/
LOCATION:Little Flock Baptist Church\, 5510 N. Preston Highway\, Shepherdsville\, KY\, 40165\, United States
CATEGORIES:Sermon Series,Worship
ATTACH;FMTTYPE=image/png:https://littleflock.com/wp-content/uploads/2025/04/Why-the-Cross-Sermon-Series-WEB.png
END:VEVENT
END:VCALENDAR