BEGIN:VCALENDAR
VERSION:2.0
PRODID:-//Little Flock - ECPv6.15.20//NONSGML v1.0//EN
CALSCALE:GREGORIAN
METHOD:PUBLISH
X-ORIGINAL-URL:https://littleflock.com
X-WR-CALDESC:Events for Little Flock
REFRESH-INTERVAL;VALUE=DURATION:PT1H
X-Robots-Tag:noindex
X-PUBLISHED-TTL:PT1H
BEGIN:VTIMEZONE
TZID:UTC
BEGIN:STANDARD
TZOFFSETFROM:+0000
TZOFFSETTO:+0000
TZNAME:UTC
DTSTART:20250101T000000
END:STANDARD
END:VTIMEZONE
BEGIN:VTIMEZONE
TZID:America/Kentucky/Louisville
BEGIN:DAYLIGHT
TZOFFSETFROM:-0500
TZOFFSETTO:-0400
TZNAME:EDT
DTSTART:20250309T070000
END:DAYLIGHT
BEGIN:STANDARD
TZOFFSETFROM:-0400
TZOFFSETTO:-0500
TZNAME:EST
DTSTART:20251102T060000
END:STANDARD
BEGIN:DAYLIGHT
TZOFFSETFROM:-0500
TZOFFSETTO:-0400
TZNAME:EDT
DTSTART:20260308T070000
END:DAYLIGHT
BEGIN:STANDARD
TZOFFSETFROM:-0400
TZOFFSETTO:-0500
TZNAME:EST
DTSTART:20261101T060000
END:STANDARD
BEGIN:DAYLIGHT
TZOFFSETFROM:-0500
TZOFFSETTO:-0400
TZNAME:EDT
DTSTART:20270314T070000
END:DAYLIGHT
BEGIN:STANDARD
TZOFFSETFROM:-0400
TZOFFSETTO:-0500
TZNAME:EST
DTSTART:20271107T060000
END:STANDARD
END:VTIMEZONE
BEGIN:VEVENT
DTSTART;TZID=UTC:20260517T121500
DTEND;TZID=UTC:20260517T144500
DTSTAMP:20260423T124134
CREATED:20250109T021606Z
LAST-MODIFIED:20260422T204837Z
UID:1234-1779020100-1779029100@littleflock.com
SUMMARY:5th Grade Lunch Outing
DESCRIPTION:5th Grade families—this one’s just for you! \n\n\n\nOur 5th Grade Lunch Outing is coming up\, and it’s going to be a great time for students to connect\, laugh\, and enjoy a meal together outside of church. \n\n\n\nSunday\, May 17\nTexas Roadhouse\n12:15–2:45 PM\n$20 per student\n\n\nSpots are limited\, so be sure to register beginning Sunday\, April 26: https://bit.ly/LFKIDZLUNCH \n\n\n\nWe’re looking forward to a fun afternoon together
URL:https://littleflock.com/event/lf-kidz-5th-grade-lunch-outing/
LOCATION:Little Flock Baptist Church\, 5510 N. Preston Highway\, Shepherdsville\, KY\, 40165\, United States
CATEGORIES:LF Kidz
ATTACH;FMTTYPE=image/png:https://littleflock.com/wp-content/uploads/2025/01/5th-Grade-Lunch-Outing-May-17-Promo-April-26-4.png
END:VEVENT
BEGIN:VEVENT
DTSTART;TZID=America/Kentucky/Louisville:20260519T183000
DTEND;TZID=America/Kentucky/Louisville:20260519T193000
DTSTAMP:20260423T124134
CREATED:20260419T135705Z
LAST-MODIFIED:20260419T135807Z
UID:2416-1779215400-1779219000@littleflock.com
SUMMARY:LF Young Adults: Top Golf
DESCRIPTION:Looking for a fun way to connect and unwind this month? \nJoin us for Young Adults Topgolf Night—a great opportunity to hang out\, meet new people\, and enjoy some friendly competition! \nYoung Adults (ages 18-29)\nTuesday\, May 19\n6:30–7:30 PM\nPay at the event \nWhether you’re a seasoned golfer or just in it for the laughs\, this is a night you won’t want to miss. Bring a friend and come ready for a great time together!
URL:https://littleflock.com/event/lf-young-adults-top-golf/
LOCATION:KY
CATEGORIES:LF Young Adults
ATTACH;FMTTYPE=image/png:https://littleflock.com/wp-content/uploads/2026/04/YA-Top-Golf-4-scaled.png
END:VEVENT
BEGIN:VEVENT
DTSTART;TZID=America/Kentucky/Louisville:20260615T090000
DTEND;TZID=America/Kentucky/Louisville:20260615T121500
DTSTAMP:20260423T124134
CREATED:20260422T193158Z
LAST-MODIFIED:20260422T193158Z
UID:2421-1781514000-1781525700@littleflock.com
SUMMARY:VBS Registration: Illumination Station
DESCRIPTION:VBS registration is OPEN\, and we can’t wait for your kids to be part of this incredible week! \n\n\n\nThis year’s theme\, Illumination Station\, will help kids discover what it means to shine a light on who Jesus really is. It’s going to be a fun\, meaningful\, and high-energy experience your kids won’t want to miss. \n\n\n\nJune 15–18\n9:00 AM–12:15 PM (Monday–Thursday)\nAges 4 years (by June 15) through 5th grade\n\n\nSpots fill up quickly\, so be sure to pre-register today:\nhttps://bit.ly/LFKIDZVBSREGISTRATION \n\n\n\nInvite your friends\, neighbors\, and family to join in—we’re excited to see how God will move in the hearts of our kids this summer!
URL:https://littleflock.com/event/vbs-registration-illumination-station/
LOCATION:Little Flock Baptist Church\, 5510 N. Preston Highway\, Shepherdsville\, KY\, 40165\, United States
ATTACH;FMTTYPE=image/png:https://littleflock.com/wp-content/uploads/2026/04/VBS-Illumination-Station-2026-4-scaled.png
END:VEVENT
BEGIN:VEVENT
DTSTART;TZID=America/Kentucky/Louisville:20260904T080000
DTEND;TZID=America/Kentucky/Louisville:20260904T170000
DTSTAMP:20260423T124134
CREATED:20260301T150406Z
LAST-MODIFIED:20260301T150406Z
UID:2341-1788508800-1788541200@littleflock.com
SUMMARY:Marriage Retreat Weekends
DESCRIPTION:Invest in your marriage in 2026. \nWe are excited to offer Marriage Retreat Weekends at Sanctuary Hills in Blaine\, TN—a beautiful setting designed for rest\, renewal\, and intentional time together. \nChoose the date that fits your schedule:• September 4–6• September 11–13• September 18–20 \nEach weekend includes meaningful teaching\, focused time with your spouse\, and space to strengthen your relationship without the distractions of everyday life. \n10 spots available per date$500 per couple \nSpots are limited\, so don’t wait to reserve yours.Register today: https://bit.ly/MARRIAGERETREATLF \nLet’s be intentional about building marriages that honor Christ and grow stronger year after year.
URL:https://littleflock.com/event/marriage-retreat-weekends/
LOCATION:KY
CATEGORIES:Conferences
ATTACH;FMTTYPE=image/png:https://littleflock.com/wp-content/uploads/2026/03/Marriage-Retreats-2026-4-scaled.png
END:VEVENT
END:VCALENDAR