BEGIN:VCALENDAR
VERSION:2.0
PRODID:-//Little Flock - ECPv6.15.20//NONSGML v1.0//EN
CALSCALE:GREGORIAN
METHOD:PUBLISH
X-WR-CALNAME:Little Flock
X-ORIGINAL-URL:https://littleflock.com
X-WR-CALDESC:Events for Little Flock
REFRESH-INTERVAL;VALUE=DURATION:PT1H
X-Robots-Tag:noindex
X-PUBLISHED-TTL:PT1H
BEGIN:VTIMEZONE
TZID:UTC
BEGIN:STANDARD
TZOFFSETFROM:+0000
TZOFFSETTO:+0000
TZNAME:UTC
DTSTART:20230101T000000
END:STANDARD
END:VTIMEZONE
BEGIN:VEVENT
DTSTART;TZID=UTC:20241016T173000
DTEND;TZID=UTC:20241218T181500
DTSTAMP:20260422T064652
CREATED:20241007T203404Z
LAST-MODIFIED:20241216T190618Z
UID:460-1729099800-1734545700@littleflock.com
SUMMARY:Wednesday Dinners
DESCRIPTION:🌟 Exciting News! Wednesday Dinners Are Back with New Menus! 🌟 \nWe’re thrilled to bring back Wednesday Dinners with ALL new menu options! It’s the perfect way to feed your family as you get ready for our evening activities around campus. 🍽️ \n📅 When? Every Wednesday from 5:30-6:15 PM\n📍 Where? The Gym\n💲 Cost? $5 per person or $20 max per family \nBe sure to register so we have an accurate count for food quantities. You can even register and pay for multiple weeks at once! \nCheck out our delicious menu and sign up at littleflock.com/wednesdaydinner. \nSee you there! 👋
URL:https://littleflock.com/event/wednesday-dinners-11/
LOCATION:Little Flock Baptist Church\, 5510 N. Preston Highway\, Shepherdsville\, KY\, 40165\, United States
CATEGORIES:Community Events,Wednesday Dinners
ATTACH;FMTTYPE=image/png:https://littleflock.com/wp-content/uploads/2024/10/Wednesday-Dinners-at-Little-Flock-Baptist-Church.png
END:VEVENT
BEGIN:VEVENT
DTSTART;TZID=UTC:20241101T160000
DTEND;TZID=UTC:20241103T170000
DTSTAMP:20260422T064652
CREATED:20241007T205837Z
LAST-MODIFIED:20241010T191015Z
UID:514-1730476800-1730653200@littleflock.com
SUMMARY:Rooted In Love Establishing A Firm Foundation: Marriage Conference
DESCRIPTION:Join the Pastors at Little Flock for our Marriage Conference\, Rooted in Love\, as they dive into God’s word and discuss the importance of a strong foundation in Jesus Christ for a thriving marriage and explore practical ways to deepen your faith together as couples. \nFall Marriage Conference \nWho: Married Couples\nWhen: Friday\, November 1\, 2024 – Sunday\, November 3\, 2024\nTotal Cost: $199/couple – $100 per couple non-refundable deposit is due at the time of registration in order to secure your spot. Payment in full is due by October 15th. \n**Please note\, the amount per couple includes lodging and meals for the weekend. \nThere are limited spots available\, and once filled\, we will be unable to accommodate additional couples. \nBy registering\, you guarantee your spot for the Marriage Conference. If you do not register\, your spot is not guaranteed. \nDeadline to register is October 15\, 2024. \nDeadline to pre-register is October 15\, 2024.\nRegister at: https://bit.ly/RootedMarriageConference
URL:https://littleflock.com/event/rooted-in-love-establishing-a-firm-foundation-marriage-conference/
LOCATION:Embassy Suites By Hilton Louisville East\, 9940 Corporate Campus Drive\, Louisville\, 40223\, United States
CATEGORIES:Conferences,LF Men's Menistry,LF Women's
ATTACH;FMTTYPE=image/png:https://littleflock.com/wp-content/uploads/2024/10/Rooted-Marriage-Conference-at-Little-Flock-Baptist-Church.png
END:VEVENT
BEGIN:VEVENT
DTSTART;TZID=UTC:20241103T090000
DTEND;TZID=UTC:20241103T120000
DTSTAMP:20260422T064652
CREATED:20241007T214735Z
LAST-MODIFIED:20241007T214735Z
UID:525-1730624400-1730635200@littleflock.com
SUMMARY:Nehemiah: Rise Up and Build!
DESCRIPTION:Pastor Nate will begin a new sermon series THIS Sunday!\nJoin us for Nehemiah: Rise Up and Build!\n📅 Sunday\, October 13th\n🕘 9 AM & 10:30 AM\n📍 Worship Center\, Little Flock
URL:https://littleflock.com/event/nehemiah-rise-up-and-build-4/
LOCATION:Little Flock Baptist Church\, 5510 N. Preston Highway\, Shepherdsville\, KY\, 40165\, United States
CATEGORIES:Sermon Series
ATTACH;FMTTYPE=image/png:https://littleflock.com/wp-content/uploads/2024/10/Nehemiah-Rise-Up-and-Build-Sermon-Series-at-Little-Flock-Baptist-Church.png
END:VEVENT
BEGIN:VEVENT
DTSTART;TZID=UTC:20241106T173000
DTEND;TZID=UTC:20241106T181500
DTSTAMP:20260422T064652
CREATED:20241007T203148Z
LAST-MODIFIED:20241010T190955Z
UID:454-1730914200-1730916900@littleflock.com
SUMMARY:Wednesday Dinners
DESCRIPTION:🌟 Exciting News! Wednesday Dinners Are Back with New Menus! 🌟 \nWe’re thrilled to bring back Wednesday Dinners with ALL new menu options! It’s the perfect way to feed your family as you get ready for our evening activities around campus. 🍽️ \n📅 When? Every Wednesday from 5:30-6:15 PM\n📍 Where? The Gym\n💲 Cost? $5 per person or $20 max per family \nBe sure to register so we have an accurate count for food quantities. You can even register and pay for multiple weeks at once! \nCheck out our delicious menu and sign up at littleflock.com/wednesdaydinner. \nSee you there! 👋
URL:https://littleflock.com/event/wednesday-dinners-5/
LOCATION:Little Flock Baptist Church\, 5510 N. Preston Highway\, Shepherdsville\, KY\, 40165\, United States
CATEGORIES:Community Events,Wednesday Dinners
ATTACH;FMTTYPE=image/png:https://littleflock.com/wp-content/uploads/2024/10/Wednesday-Dinners-at-Little-Flock-Baptist-Church.png
END:VEVENT
BEGIN:VEVENT
DTSTART;TZID=UTC:20241110T090000
DTEND;TZID=UTC:20241110T120000
DTSTAMP:20260422T064652
CREATED:20241007T214807Z
LAST-MODIFIED:20241007T214807Z
UID:526-1731229200-1731240000@littleflock.com
SUMMARY:Nehemiah: Rise Up and Build!
DESCRIPTION:Pastor Nate will begin a new sermon series THIS Sunday!\nJoin us for Nehemiah: Rise Up and Build!\n📅 Sunday\, October 13th\n🕘 9 AM & 10:30 AM\n📍 Worship Center\, Little Flock
URL:https://littleflock.com/event/nehemiah-rise-up-and-build-5/
LOCATION:Little Flock Baptist Church\, 5510 N. Preston Highway\, Shepherdsville\, KY\, 40165\, United States
CATEGORIES:Sermon Series
ATTACH;FMTTYPE=image/png:https://littleflock.com/wp-content/uploads/2024/10/Nehemiah-Rise-Up-and-Build-Sermon-Series-at-Little-Flock-Baptist-Church.png
END:VEVENT
BEGIN:VEVENT
DTSTART;TZID=UTC:20241113T173000
DTEND;TZID=UTC:20241113T181500
DTSTAMP:20260422T064652
CREATED:20241007T203219Z
LAST-MODIFIED:20241010T190955Z
UID:455-1731519000-1731521700@littleflock.com
SUMMARY:Wednesday Dinners
DESCRIPTION:🌟 Exciting News! Wednesday Dinners Are Back with New Menus! 🌟 \nWe’re thrilled to bring back Wednesday Dinners with ALL new menu options! It’s the perfect way to feed your family as you get ready for our evening activities around campus. 🍽️ \n📅 When? Every Wednesday from 5:30-6:15 PM\n📍 Where? The Gym\n💲 Cost? $5 per person or $20 max per family \nBe sure to register so we have an accurate count for food quantities. You can even register and pay for multiple weeks at once! \nCheck out our delicious menu and sign up at littleflock.com/wednesdaydinner. \nSee you there! 👋
URL:https://littleflock.com/event/wednesday-dinners-6/
LOCATION:Little Flock Baptist Church\, 5510 N. Preston Highway\, Shepherdsville\, KY\, 40165\, United States
CATEGORIES:Community Events,Wednesday Dinners
ATTACH;FMTTYPE=image/png:https://littleflock.com/wp-content/uploads/2024/10/Wednesday-Dinners-at-Little-Flock-Baptist-Church.png
END:VEVENT
BEGIN:VEVENT
DTSTART;TZID=UTC:20241120T173000
DTEND;TZID=UTC:20241120T181500
DTSTAMP:20260422T064652
CREATED:20241007T203241Z
LAST-MODIFIED:20241010T190955Z
UID:456-1732123800-1732126500@littleflock.com
SUMMARY:Wednesday Dinners
DESCRIPTION:🌟 Exciting News! Wednesday Dinners Are Back with New Menus! 🌟 \nWe’re thrilled to bring back Wednesday Dinners with ALL new menu options! It’s the perfect way to feed your family as you get ready for our evening activities around campus. 🍽️ \n📅 When? Every Wednesday from 5:30-6:15 PM\n📍 Where? The Gym\n💲 Cost? $5 per person or $20 max per family \nBe sure to register so we have an accurate count for food quantities. You can even register and pay for multiple weeks at once! \nCheck out our delicious menu and sign up at littleflock.com/wednesdaydinner. \nSee you there! 👋
URL:https://littleflock.com/event/wednesday-dinners-7/
LOCATION:Little Flock Baptist Church\, 5510 N. Preston Highway\, Shepherdsville\, KY\, 40165\, United States
CATEGORIES:Community Events,Wednesday Dinners
ATTACH;FMTTYPE=image/png:https://littleflock.com/wp-content/uploads/2024/10/Wednesday-Dinners-at-Little-Flock-Baptist-Church.png
END:VEVENT
BEGIN:VEVENT
DTSTART;TZID=UTC:20241127T173000
DTEND;TZID=UTC:20241127T181500
DTSTAMP:20260422T064652
CREATED:20241007T203304Z
LAST-MODIFIED:20241010T190955Z
UID:457-1732728600-1732731300@littleflock.com
SUMMARY:Wednesday Dinners
DESCRIPTION:🌟 Exciting News! Wednesday Dinners Are Back with New Menus! 🌟 \nWe’re thrilled to bring back Wednesday Dinners with ALL new menu options! It’s the perfect way to feed your family as you get ready for our evening activities around campus. 🍽️ \n📅 When? Every Wednesday from 5:30-6:15 PM\n📍 Where? The Gym\n💲 Cost? $5 per person or $20 max per family \nBe sure to register so we have an accurate count for food quantities. You can even register and pay for multiple weeks at once! \nCheck out our delicious menu and sign up at littleflock.com/wednesdaydinner. \nSee you there! 👋
URL:https://littleflock.com/event/wednesday-dinners-8/
LOCATION:Little Flock Baptist Church\, 5510 N. Preston Highway\, Shepherdsville\, KY\, 40165\, United States
CATEGORIES:Community Events,Wednesday Dinners
ATTACH;FMTTYPE=image/png:https://littleflock.com/wp-content/uploads/2024/10/Wednesday-Dinners-at-Little-Flock-Baptist-Church.png
END:VEVENT
END:VCALENDAR