BEGIN:VCALENDAR
VERSION:2.0
PRODID:-//Little Flock - ECPv6.15.20//NONSGML v1.0//EN
CALSCALE:GREGORIAN
METHOD:PUBLISH
X-ORIGINAL-URL:https://littleflock.com
X-WR-CALDESC:Events for Little Flock
REFRESH-INTERVAL;VALUE=DURATION:PT1H
X-Robots-Tag:noindex
X-PUBLISHED-TTL:PT1H
BEGIN:VTIMEZONE
TZID:UTC
BEGIN:STANDARD
TZOFFSETFROM:+0000
TZOFFSETTO:+0000
TZNAME:UTC
DTSTART:20240101T000000
END:STANDARD
END:VTIMEZONE
BEGIN:VEVENT
DTSTART;TZID=UTC:20250202T080000
DTEND;TZID=UTC:20250302T170000
DTSTAMP:20260422T163014
CREATED:20250202T172407Z
LAST-MODIFIED:20250204T201033Z
UID:1346-1738483200-1740934800@littleflock.com
SUMMARY:Youth Basketball League Registration
DESCRIPTION:Youth Basketball Registration is NOW OPEN!\n\n\n\n\n\n\n\n\n\n\nCalling all 13-15 year olds—it’s time to hit the court! Our Youth Basketball League runs March – June\, and the cost is $125 per player. \nSign up today at littleflock.com/ministries/recreation! \nFor more info\, email Noah at noahf@littleflock.com.
URL:https://littleflock.com/event/youth-basketball-league/
LOCATION:KY
CATEGORIES:Recreation
ATTACH;FMTTYPE=image/png:https://littleflock.com/wp-content/uploads/2025/02/Youth-Basketball-League-WEB.png
END:VEVENT
BEGIN:VEVENT
DTSTART;TZID=UTC:20250202T114500
DTEND;TZID=UTC:20250202T121500
DTSTAMP:20260422T163014
CREATED:20250119T234437Z
LAST-MODIFIED:20250119T234437Z
UID:1270-1738496700-1738498500@littleflock.com
SUMMARY:Growth Track
DESCRIPTION:We are excited to announce Growth Track at Little Flock. Growth Track is designed to help you discover who Jesus made you to be and what Jesus wants you to do. \nWe believe God has created every person for a specific purpose\, and to make a difference in the lives of others. We want to help you find that purpose.  If you are a member of Little Flock or new to our church family\, you can jump in anytime. \nGrowth Track happens everyone week on four consecutive Sundays\, starting with Step One on the first Sunday of each month. \nWe will meet 11:45-12:15 after second service in Room 177 beginning February 2nd. Kidz Care is available.
URL:https://littleflock.com/event/growth-track/
LOCATION:Little Flock Baptist Church\, 5510 N. Preston Highway\, Shepherdsville\, KY\, 40165\, United States
ATTACH;FMTTYPE=image/png:https://littleflock.com/wp-content/uploads/2025/01/Growth-Track-WEB.png
END:VEVENT
BEGIN:VEVENT
DTSTART;TZID=UTC:20250223T114500
DTEND;TZID=UTC:20250223T121500
DTSTAMP:20260422T163014
CREATED:20250120T004913Z
LAST-MODIFIED:20250217T213023Z
UID:1276-1740311100-1740312900@littleflock.com
SUMMARY:Welcome Baby Roman
DESCRIPTION:Church Family\, join us in celebrating Pastor Nate and Deanna as they prepare to welcome Baby Roman in the coming weeks! \nThis special reception\, hosted by Rooted: LF Women’s Ministry\, will be held after 2nd service on Sunday\, February 23rd in the Café. \nDeanna is registered on Amazon\, but your presence is gift enough. Let’s shower them with love and encouragement!
URL:https://littleflock.com/event/welcome-baby-roman/
LOCATION:Little Flock Baptist Church\, 5510 N. Preston Highway\, Shepherdsville\, KY\, 40165\, United States
ATTACH;FMTTYPE=image/png:https://littleflock.com/wp-content/uploads/2025/01/Roman-Reception-WEB-1.png
END:VEVENT
BEGIN:VEVENT
DTSTART;TZID=UTC:20250223T120000
DTEND;TZID=UTC:20250223T170000
DTSTAMP:20260422T163014
CREATED:20250111T194458Z
LAST-MODIFIED:20250217T231026Z
UID:1254-1740312000-1740330000@littleflock.com
SUMMARY:LF Students Main Event
DESCRIPTION:NEW DATE—Gatti’s & Main Event!\n\n\nLF Students\, we had to reschedule\, but we’re back on for THIS Sunday\, February 23rd!\n\n\nWe’re still kicking things off with pizza at Gatti’s\, then heading to Main Event for an afternoon of games and fun!\n\n\nDATE: Sunday\, February 23rd\nTIME: 12:00 PM – 5:00 PM\nFirst Stop: Gatti’s Pizza\nThen: Main Event for games!\n\n\nCOST:\n$15 for Gatti’s (bring your own money)\n$27 for Main Event (cash or check made out to LF)\nxtra $$ for additional games (optional)\nREGISTER: https://bit.ly/smactivategattis\n\n\nDon’t miss out on this awesome afternoon so grab your friends and join us!
URL:https://littleflock.com/event/lf-students-activate/
LOCATION:KY
CATEGORIES:LF Students
ATTACH;FMTTYPE=image/png:https://littleflock.com/wp-content/uploads/2025/01/Main-Event-WEB-2.png
END:VEVENT
BEGIN:VEVENT
DTSTART;TZID=UTC:20250225T183000
DTEND;TZID=UTC:20250225T193000
DTSTAMP:20260422T163014
CREATED:20250218T012118Z
LAST-MODIFIED:20250218T012118Z
UID:1402-1740508200-1740511800@littleflock.com
SUMMARY:Journey To Healthy Living
DESCRIPTION:Ladies\, join us for Journey to Healthy Living! \nCome be encouraged as we honor God\, love people\, and empower each other to live healthy! Our next meeting is Tuesday\, February 25\, at 6:30 PM in The Nook. \nThis month’s topic: Ancient Health Remedies \nAll ladies are welcome! For more info\, email jonesnb15@gmail.com.
URL:https://littleflock.com/event/journey-to-healthy-living-2/
LOCATION:KY
CATEGORIES:LF Women's
ATTACH;FMTTYPE=image/png:https://littleflock.com/wp-content/uploads/2025/02/Journey-Feb-25-WEB.png
END:VEVENT
BEGIN:VEVENT
DTSTART;TZID=UTC:20250226T080000
DTEND;TZID=UTC:20250226T200000
DTSTAMP:20260422T163014
CREATED:20250223T182122Z
LAST-MODIFIED:20250223T182250Z
UID:1418-1740556800-1740600000@littleflock.com
SUMMARY:NBHS FCA Food Drive
DESCRIPTION:North Bullitt with Bullitt County FCA is hosting a Food Drive benefiting Eastern Kentucky Flood Victims. Drop off donated items in the cafe THIS Wednesday. You can pick up a list of needed items today at Next Steps or see the image in this post.
URL:https://littleflock.com/event/nbhs-fca-food-drive/
LOCATION:Little Flock Baptist Church\, 5510 N. Preston Highway\, Shepherdsville\, KY\, 40165\, United States
CATEGORIES:Community Events
ATTACH;FMTTYPE=image/png:https://littleflock.com/wp-content/uploads/2025/02/Food-Drive-WEB.png
END:VEVENT
BEGIN:VEVENT
DTSTART;TZID=UTC:20250227T100000
DTEND;TZID=UTC:20250227T160000
DTSTAMP:20260422T163014
CREATED:20250120T000640Z
LAST-MODIFIED:20250120T000640Z
UID:1273-1740650400-1740672000@littleflock.com
SUMMARY:Give Blood Give Life
DESCRIPTION:Give Blood! Give Life! \nJoin us for a Blood Drive at Little Flock on Thursday\, February 27\, from 10 AM – 4 PM in the Café. \nAre you interested in helping out? We’re looking for volunteers to greet and support our blood donors. \nEmail bobc@littleflock.com for more details.
URL:https://littleflock.com/event/give-blood-give-life/
LOCATION:Little Flock Baptist Church\, 5510 N. Preston Highway\, Shepherdsville\, KY\, 40165\, United States
ATTACH;FMTTYPE=image/png:https://littleflock.com/wp-content/uploads/2025/01/Donate-Blood-WEB.png
END:VEVENT
BEGIN:VEVENT
DTSTART;TZID=UTC:20250228T203000
DTEND;TZID=UTC:20250301T210000
DTSTAMP:20260422T163014
CREATED:20250209T193931Z
LAST-MODIFIED:20250209T212854Z
UID:1363-1740774600-1740862800@littleflock.com
SUMMARY:Gather 25 Worldwide Prayer Event
DESCRIPTION:LF Men & Women\, Join Us for Gather 25! \nBe part of a powerful worldwide prayer event right here at Little Flock! Gather 25 is a 25-hour experience of worship and prayer\, uniting believers across the globe. \n8 PM Friday\, February 28 – 9 PM Saturday\, March 1\nLittle Flock Worship Center \nLet’s seek the Lord together and lift our voices in prayer! Learn more at Gather25.com. #Gather25 #Prayer #LittleFlock
URL:https://littleflock.com/event/gather-25-worldwide-prayer-event/
LOCATION:Little Flock Baptist Church\, 5510 N. Preston Highway\, Shepherdsville\, KY\, 40165\, United States
CATEGORIES:LF Men's Menistry,LF Women's
ATTACH;FMTTYPE=image/png:https://littleflock.com/wp-content/uploads/2025/02/Gather-2025-WEB.png
END:VEVENT
END:VCALENDAR