BEGIN:VCALENDAR
VERSION:2.0
PRODID:-//Little Flock - ECPv6.15.20//NONSGML v1.0//EN
CALSCALE:GREGORIAN
METHOD:PUBLISH
X-ORIGINAL-URL:https://littleflock.com
X-WR-CALDESC:Events for Little Flock
REFRESH-INTERVAL;VALUE=DURATION:PT1H
X-Robots-Tag:noindex
X-PUBLISHED-TTL:PT1H
BEGIN:VTIMEZONE
TZID:UTC
BEGIN:STANDARD
TZOFFSETFROM:+0000
TZOFFSETTO:+0000
TZNAME:UTC
DTSTART:20240101T000000
END:STANDARD
END:VTIMEZONE
BEGIN:VEVENT
DTSTART;TZID=UTC:20250202T080000
DTEND;TZID=UTC:20250302T170000
DTSTAMP:20260423T183818
CREATED:20250202T172407Z
LAST-MODIFIED:20250204T201033Z
UID:1346-1738483200-1740934800@littleflock.com
SUMMARY:Youth Basketball League Registration
DESCRIPTION:Youth Basketball Registration is NOW OPEN!\n\n\n\n\n\n\n\n\n\n\nCalling all 13-15 year olds—it’s time to hit the court! Our Youth Basketball League runs March – June\, and the cost is $125 per player. \nSign up today at littleflock.com/ministries/recreation! \nFor more info\, email Noah at noahf@littleflock.com.
URL:https://littleflock.com/event/youth-basketball-league/
LOCATION:KY
CATEGORIES:Recreation
ATTACH;FMTTYPE=image/png:https://littleflock.com/wp-content/uploads/2025/02/Youth-Basketball-League-WEB.png
END:VEVENT
BEGIN:VEVENT
DTSTART;TZID=UTC:20250228T203000
DTEND;TZID=UTC:20250301T210000
DTSTAMP:20260423T183818
CREATED:20250209T193931Z
LAST-MODIFIED:20250209T212854Z
UID:1363-1740774600-1740862800@littleflock.com
SUMMARY:Gather 25 Worldwide Prayer Event
DESCRIPTION:LF Men & Women\, Join Us for Gather 25! \nBe part of a powerful worldwide prayer event right here at Little Flock! Gather 25 is a 25-hour experience of worship and prayer\, uniting believers across the globe. \n8 PM Friday\, February 28 – 9 PM Saturday\, March 1\nLittle Flock Worship Center \nLet’s seek the Lord together and lift our voices in prayer! Learn more at Gather25.com. #Gather25 #Prayer #LittleFlock
URL:https://littleflock.com/event/gather-25-worldwide-prayer-event/
LOCATION:Little Flock Baptist Church\, 5510 N. Preston Highway\, Shepherdsville\, KY\, 40165\, United States
CATEGORIES:LF Men's Menistry,LF Women's
ATTACH;FMTTYPE=image/png:https://littleflock.com/wp-content/uploads/2025/02/Gather-2025-WEB.png
END:VEVENT
BEGIN:VEVENT
DTSTART;TZID=UTC:20250302T170000
DTEND;TZID=UTC:20250302T190000
DTSTAMP:20260423T183818
CREATED:20250211T024140Z
LAST-MODIFIED:20250223T235144Z
UID:1367-1740934800-1740942000@littleflock.com
SUMMARY:Daddy Daughter Dance – A Night Under the Stars! 
DESCRIPTION:Dads\, this is your chance to create unforgettable memories with your little girl! \nJoin us for our 2nd Annual Daddy Daughter Dance on March 2nd from 5-7 PM in the gym & theater. \nFor girls in 5th grade & under\nA night filled with dancing\, a DJ\, and a photo booth\nAppetizers & sweet treats\nFun crafts to enjoy together \nCost $20  \nDon’t miss this special evening—register today!  https://bit.ly/DADDYDAUGHTERDANCE
URL:https://littleflock.com/event/daddy-daughter-dance-a-night-under-the-stars/
LOCATION:Little Flock Baptist Church\, 5510 N. Preston Highway\, Shepherdsville\, KY\, 40165\, United States
CATEGORIES:Fellowships,LF Kidz
ATTACH;FMTTYPE=image/png:https://littleflock.com/wp-content/uploads/2025/02/Daddy-Daughter-Dance-WEB.png
END:VEVENT
BEGIN:VEVENT
DTSTART;TZID=UTC:20250316T140000
DTEND;TZID=UTC:20250316T160000
DTSTAMP:20260423T183818
CREATED:20250303T202225Z
LAST-MODIFIED:20250303T202225Z
UID:1459-1742133600-1742140800@littleflock.com
SUMMARY:LF Kidz Spring Fun Day
DESCRIPTION:Hey families! If you have kids ages 4 through 2nd grade\, you’re invited to a fun-filled spring celebration at LF Kidz Spring Fun Day! \nSunday\, March 16 2-4 PMThe HubParent/Guardian must stay with your child \nDon’t miss out on an afternoon of games\, activities\, and springtime fun! \nRegister now at https://bit.ly/LFKIDZFUNDAY \n 
URL:https://littleflock.com/event/lf-kidz-spring-fun-day/
LOCATION:Little Flock Baptist Church\, 5510 N. Preston Highway\, Shepherdsville\, KY\, 40165\, United States
CATEGORIES:LF Kidz
ATTACH;FMTTYPE=image/png:https://littleflock.com/wp-content/uploads/2025/03/Spring-Fun-Day-WEB.png
END:VEVENT
BEGIN:VEVENT
DTSTART;TZID=UTC:20250323T180000
DTEND;TZID=UTC:20250323T193000
DTSTAMP:20260423T183818
CREATED:20250217T193854Z
LAST-MODIFIED:20250217T193854Z
UID:1391-1742752800-1742758200@littleflock.com
SUMMARY:Night Of Worship & Prayer
DESCRIPTION:Night of Worship & Prayer \nJoin us for a powerful evening of worship and prayer led by our worship choir and band! Together\, we’ll lift our voices in praise and spend time in prayer for our church family and community. \nSunday\, March 23 6 PMKidz Care available for Pre-K & under \nCome expectant. Come ready. Let’s worship together!
URL:https://littleflock.com/event/night-of-worship-prayer/
LOCATION:Little Flock Baptist Church\, 5510 N. Preston Highway\, Shepherdsville\, KY\, 40165\, United States
CATEGORIES:Worship
ATTACH;FMTTYPE=image/png:https://littleflock.com/wp-content/uploads/2025/02/NOW-25-WEB.png
END:VEVENT
BEGIN:VEVENT
DTSTART;TZID=UTC:20250329T080000
DTEND;TZID=UTC:20250329T110000
DTSTAMP:20260423T183818
CREATED:20250302T211102Z
LAST-MODIFIED:20250302T211102Z
UID:1453-1743235200-1743246000@littleflock.com
SUMMARY:Church Work Day
DESCRIPTION:Church Work Day – Let’s Spring Clean Together!\n\n\nChurch family\, it’s time to roll up our sleeves and refresh our campus! Join us for Church Work Day on Saturday\, March 29\, from 8 AM – 11 AM.\n\n\nWe’ll have inside and outside jobs available\, so there’s something for everyone! Bring your gloves\, shovels\, and wheelbarrows\, and let’s work together to keep our church looking its best.\n\n\nWe can’t wait to serve alongside you!
URL:https://littleflock.com/event/church-work-day/
LOCATION:Little Flock Baptist Church\, 5510 N. Preston Highway\, Shepherdsville\, KY\, 40165\, United States
CATEGORIES:Fellowships,Support
ATTACH;FMTTYPE=image/png:https://littleflock.com/wp-content/uploads/2025/03/Church-Work-Day-WEB.png
END:VEVENT
BEGIN:VEVENT
DTSTART;TZID=UTC:20250330T080000
DTEND;TZID=UTC:20250330T170000
DTSTAMP:20260423T183818
CREATED:20250226T205632Z
LAST-MODIFIED:20250226T205809Z
UID:1433-1743321600-1743354000@littleflock.com
SUMMARY:He Got Up Shirt Pre-Order
DESCRIPTION:Pre-Orders for our “HE GOT UP” Crewneck are now OPEN! Order now until our closing date of March 30th and have your shirt in time for Easter! Shirts are $44 and you can pay online when you fill out the order form. \nOrder at: https://bit.ly/HEGOTUP
URL:https://littleflock.com/event/he-got-up-shirt-pre-order/
LOCATION:KY
ATTACH;FMTTYPE=image/png:https://littleflock.com/wp-content/uploads/2025/02/He-Got-Up-Sweatshirt-WEB.png
END:VEVENT
BEGIN:VEVENT
DTSTART;TZID=UTC:20250330T160000
DTEND;TZID=UTC:20250330T173000
DTSTAMP:20260423T183818
CREATED:20250224T000151Z
LAST-MODIFIED:20250224T000151Z
UID:1426-1743350400-1743355800@littleflock.com
SUMMARY:LF Pray
DESCRIPTION:Join Us for LF Pray! \nChurch Family\, let’s come together in prayer for our community! On Sunday\, March 30\, from 4-5:30 PM\, we’ll head out for a prayer walk in various neighborhoods\, lifting up our neighbors\, schools\, and city in prayer. \nWe’ll meet in the Worship Center to divide into groups before heading out. Let’s step out in faith and Make Jesus Known through prayer!
URL:https://littleflock.com/event/lf-pray/
LOCATION:Little Flock Baptist Church\, 5510 N. Preston Highway\, Shepherdsville\, KY\, 40165\, United States
CATEGORIES:Community Events
ATTACH;FMTTYPE=image/png:https://littleflock.com/wp-content/uploads/2025/02/LF-Pray-WEB.png
END:VEVENT
END:VCALENDAR