BEGIN:VCALENDAR
VERSION:2.0
PRODID:-//Little Flock - ECPv6.15.20//NONSGML v1.0//EN
CALSCALE:GREGORIAN
METHOD:PUBLISH
X-ORIGINAL-URL:https://littleflock.com
X-WR-CALDESC:Events for Little Flock
REFRESH-INTERVAL;VALUE=DURATION:PT1H
X-Robots-Tag:noindex
X-PUBLISHED-TTL:PT1H
BEGIN:VTIMEZONE
TZID:UTC
BEGIN:STANDARD
TZOFFSETFROM:+0000
TZOFFSETTO:+0000
TZNAME:UTC
DTSTART:20250101T000000
END:STANDARD
END:VTIMEZONE
BEGIN:VTIMEZONE
TZID:America/Kentucky/Louisville
BEGIN:DAYLIGHT
TZOFFSETFROM:-0500
TZOFFSETTO:-0400
TZNAME:EDT
DTSTART:20250309T070000
END:DAYLIGHT
BEGIN:STANDARD
TZOFFSETFROM:-0400
TZOFFSETTO:-0500
TZNAME:EST
DTSTART:20251102T060000
END:STANDARD
BEGIN:DAYLIGHT
TZOFFSETFROM:-0500
TZOFFSETTO:-0400
TZNAME:EDT
DTSTART:20260308T070000
END:DAYLIGHT
BEGIN:STANDARD
TZOFFSETFROM:-0400
TZOFFSETTO:-0500
TZNAME:EST
DTSTART:20261101T060000
END:STANDARD
BEGIN:DAYLIGHT
TZOFFSETFROM:-0500
TZOFFSETTO:-0400
TZNAME:EDT
DTSTART:20270314T070000
END:DAYLIGHT
BEGIN:STANDARD
TZOFFSETFROM:-0400
TZOFFSETTO:-0500
TZNAME:EST
DTSTART:20271107T060000
END:STANDARD
END:VTIMEZONE
BEGIN:VEVENT
DTSTART;TZID=UTC:20260201T080000
DTEND;TZID=UTC:20260301T080000
DTSTAMP:20260421T095650
CREATED:20250202T171512Z
LAST-MODIFIED:20260114T221157Z
UID:1340-1769932800-1772352000@littleflock.com
SUMMARY:Children's Spring Soccer League Registration Feb. 1-Mar. 1
DESCRIPTION:Children’s Spring Soccer Registration will open February 1st and will be available through March 1st. \nKick off the season with Little Flock Children’s Soccer! The season runs March-May for kids grades K-6\, and the cost is $125. \nSign up beginning February 1st at littleflock.com/recreation \nNeed more details? Email Noah at noahf@littleflock.com.
URL:https://littleflock.com/event/childrens-soccer-league/
CATEGORIES:Recreation
ATTACH;FMTTYPE=image/png:https://littleflock.com/wp-content/uploads/2025/02/Childrens-Soccer-Leage-25-Promo-Feb-1-4-scaled.png
END:VEVENT
BEGIN:VEVENT
DTSTART;TZID=America/Kentucky/Louisville:20260201T080000
DTEND;TZID=America/Kentucky/Louisville:20260301T170000
DTSTAMP:20260421T095650
CREATED:20260114T222020Z
LAST-MODIFIED:20260114T222020Z
UID:2251-1769932800-1772384400@littleflock.com
SUMMARY:Spring Children's Volleyball Registration: Feb. 1-Mar. 1
DESCRIPTION:Children’s Spring Co-Ed Volleyball Registration will open February 1st and will be available through March 1st. \nServe up the season with Little Flock Children’s Volleyball! The season runs March-May for kids grades K-8\, and the cost is $125. \nSign up beginning February 1st at littleflock.com/recreation \nNeed more details? Email Noah at noahf@littleflock.com.
URL:https://littleflock.com/event/spring-childrens-volleyball-registration-feb-1-mar-1/
CATEGORIES:Recreation
ATTACH;FMTTYPE=image/png:https://littleflock.com/wp-content/uploads/2026/01/CoEd-Volleyball-26-Promo-Feb-1-4-scaled.png
END:VEVENT
BEGIN:VEVENT
DTSTART;TZID=America/Kentucky/Louisville:20260201T080000
DTEND;TZID=America/Kentucky/Louisville:20260301T170000
DTSTAMP:20260421T095650
CREATED:20260114T222745Z
LAST-MODIFIED:20260114T222745Z
UID:2254-1769932800-1772384400@littleflock.com
SUMMARY:Adult Indoor Volleyball
DESCRIPTION:Looking for a fun way to stay active and connect with others? Join us for Adult Indoor Volleyball this spring! Whether you’re competitive or just love the game\, this league is a great way to enjoy Friday nights on the court. \nSeason Details:• March–May• Friday Nights• Ages 18+• $50 per player• Games played in the gym \nRegistration runs February 1-March 1Sign up at littleflock.com/rec
URL:https://littleflock.com/event/adult-indoor-volleyball/
CATEGORIES:Recreation
ATTACH;FMTTYPE=image/png:https://littleflock.com/wp-content/uploads/2026/01/Adult-Volleyball-26-Promo-Feb-1-4-scaled.png
END:VEVENT
BEGIN:VEVENT
DTSTART;TZID=America/Kentucky/Louisville:20260215T080000
DTEND;TZID=America/Kentucky/Louisville:20260331T170000
DTSTAMP:20260421T095650
CREATED:20260215T163150Z
LAST-MODIFIED:20260215T163150Z
UID:2317-1771142400-1774976400@littleflock.com
SUMMARY:VBS Save The Date & Volunteers Needed
DESCRIPTION:Save the Date for VBS 2026! Illumination Station… \nVacation Bible School is coming June 15–18\, 2026 (Monday–Thursday) from 9:00 AM–12:15 PM\, and we are already looking ahead with excitement for what God is going to do through this incredible week! \nVBS is one of our favorite times of the year at Little Flock—full of energy\, laughter\, learning\, and opportunities to point kids to Jesus in meaningful ways. And we can’t do it without YOU. \nWe are currently looking for adult volunteers who are willing to serve\, lead\, encourage\, and help make this week unforgettable for our LF Kidz. Whether you love teaching\, organizing\, decorating\, welcoming families\, or simply investing in the next generation\, there is a place for you to serve. \nIf you’re ready to make a difference\, register today:https://bit.ly/LFKIDZVBSVOLUNTEER \nLet’s work together to make VBS 2026 a powerful week of shining the light of Jesus in the lives of children and families.
URL:https://littleflock.com/event/vbs-save-the-date-volunteers-needed/
CATEGORIES:LF Kidz
ATTACH;FMTTYPE=image/png:https://littleflock.com/wp-content/uploads/2026/02/VBS-2026-Volunteers-Needed-1.png
END:VEVENT
BEGIN:VEVENT
DTSTART;TZID=America/Kentucky/Louisville:20260301T180000
DTEND;TZID=America/Kentucky/Louisville:20260301T200000
DTSTAMP:20260421T095650
CREATED:20260201T145553Z
LAST-MODIFIED:20260201T145553Z
UID:2291-1772388000-1772395200@littleflock.com
SUMMARY:Night of Worship
DESCRIPTION:Night of Worship Join us for a special evening set aside to worship\, pray\, and seek the Lord together as a church family. \nSunday\, March 16:00 PM\nWorship Center \nThis Night of Worship will be a time to slow down\, lift our voices\, and intentionally focus our hearts on Jesus. Along with worship through song\, we will spend time in prayer together. \nKidz Care will be provided for Pre-K and under. \nCome expectant\, come prayerful\, and come ready to worship. We look forward to being together.
URL:https://littleflock.com/event/night-of-worship/
CATEGORIES:Worship
ATTACH;FMTTYPE=image/png:https://littleflock.com/wp-content/uploads/2026/02/Night-of-Worship-2026-4.png
END:VEVENT
BEGIN:VEVENT
DTSTART;TZID=UTC:20260307T170000
DTEND;TZID=UTC:20260307T190000
DTSTAMP:20260421T095650
CREATED:20241007T205202Z
LAST-MODIFIED:20260219T000759Z
UID:498-1772902800-1772910000@littleflock.com
SUMMARY:Watchman Prayer Banquet
DESCRIPTION:You’re invited to a special evening of encouragement and vision at our Watchman Prayer Ministry Banquet! \nSaturday\, March 75:00–7:00 PMTheater \nThis complimentary banquet is our way of expressing gratitude to our faithful Watchmen and inviting others to join us as prayer warriors for the coming year. If the Lord has been stirring your heart toward deeper\, intentional prayer\, this is a wonderful opportunity to step in. \nYou and a guest are warmly invited to attend.Kidz care is available upon request.RSVP to Linda Rayhill at 502.417.3212. \nWe look forward to a meaningful evening together as we seek the Lord and prepare for what He has ahead.
URL:https://littleflock.com/event/watchman-prayer-ministry-banquet/
LOCATION:Little Flock Baptist Church\, 5510 N. Preston Highway\, Shepherdsville\, KY\, 40165\, United States
CATEGORIES:Ministry Banquets
ATTACH;FMTTYPE=image/png:https://littleflock.com/wp-content/uploads/2024/10/Watchman-Prayer-Banquet-4.png
END:VEVENT
BEGIN:VEVENT
DTSTART;TZID=America/Kentucky/Louisville:20260307T180000
DTEND;TZID=America/Kentucky/Louisville:20260307T200000
DTSTAMP:20260421T095650
CREATED:20260215T143932Z
LAST-MODIFIED:20260218T231046Z
UID:2313-1772906400-1772913600@littleflock.com
SUMMARY:LF Young Adults Game Night
DESCRIPTION:Young Adults Ages 18-29 \nGame Night is Almost Here! \nJoin us for a fun and relaxed evening of games\, laughter\, and connection! \nSaturday\, March 76:00–8:00 PMThe LoftFree | No registration required \nBring your favorite game and invite a friend—we can’t wait to see you there
URL:https://littleflock.com/event/lf-young-adults-game-night/
LOCATION:Little Flock Baptist Church\, 5510 N. Preston Highway\, Shepherdsville\, KY\, 40165\, United States
CATEGORIES:Fellowships,LF Young Adults
ATTACH;FMTTYPE=image/png:https://littleflock.com/wp-content/uploads/2026/02/Young-Adult-Game-Night-4-scaled.png
END:VEVENT
BEGIN:VEVENT
DTSTART;TZID=UTC:20260308T020000
DTEND;TZID=UTC:20260308T030000
DTSTAMP:20260421T095650
CREATED:20250308T213846Z
LAST-MODIFIED:20260303T193243Z
UID:1478-1772935200-1772938800@littleflock.com
SUMMARY:Spring Forward
DESCRIPTION:This weekend we “Spring Forward”! \nDon’t forget to set your clocks ahead one hour before you go to bed on Saturday night so you’re ready to gather with us on Sunday morning! \nLosing an hour of sleep might be tough… but gaining more daylight and worshiping together is worth it. \nWe can’t wait to see you as we open God’s Word\, lift our voices in praise\, and continue walking through Romans together. \nSet those clocks ahead and we’ll see you Sunday!9:00 & 10:45 AMOnline at 10:45 AM
URL:https://littleflock.com/event/spring-forward/
ATTACH;FMTTYPE=image/png:https://littleflock.com/wp-content/uploads/2025/03/Spring-Forward-2026-5.png
END:VEVENT
BEGIN:VEVENT
DTSTART;TZID=UTC:20260312T100000
DTEND;TZID=UTC:20260312T120000
DTSTAMP:20260421T095650
CREATED:20250109T014230Z
LAST-MODIFIED:20260309T193512Z
UID:1224-1773309600-1773316800@littleflock.com
SUMMARY:Moms Connect
DESCRIPTION:Moms\, you don’t have to walk this journey alone! \nJoin us for Moms Connect at Little Flock on Thursday\, March 12 from 10:00 AM – 12:00 PM in The Loft. This is a special time to gather with other moms for encouragement\, friendship\, and growing in Christ together. \nKidz Care is provided\, so bring the little ones and come connect!“The Lord will fight for you. You need only to be still.” – Exodus 14:14 \nWe can’t wait to see you there! \n\n\nFACEBOOK  Little Flock Moms Connect
URL:https://littleflock.com/event/moms-connect/
LOCATION:Little Flock Baptist Church\, 5510 N. Preston Highway\, Shepherdsville\, KY\, 40165\, United States
CATEGORIES:LF Women's
ATTACH;FMTTYPE=image/png:https://littleflock.com/wp-content/uploads/2025/01/Moms-Connect-March-5.png
END:VEVENT
BEGIN:VEVENT
DTSTART;TZID=UTC:20260313T190000
DTEND;TZID=UTC:20260313T210000
DTSTAMP:20260421T095650
CREATED:20250104T021656Z
LAST-MODIFIED:20260223T193622Z
UID:1175-1773428400-1773435600@littleflock.com
SUMMARY:Grace Marriage
DESCRIPTION:Invest in your marriage this season through Grace Marriage Workshops.\n\nThese intentional monthly gatherings on Friday evenings are designed to help couples assess their marriage\, engage more deeply with one another\, and grow together in grace. \n\n\n\nFriday\, March 13\n7:00–9:00 PM\nThe Loft\n\n\n\n$189 per couple (includes optional journal purchase) \n\nLight snacks & drinks provided\n\nNo KidzCare \n\n\n\nRegister today: https://bit.ly/LFGraceMarriage\n\n\nMake time to strengthen what matters most—we would love for you to join us.
URL:https://littleflock.com/event/grace-marriage/
LOCATION:Little Flock Baptist Church\, 5510 N. Preston Highway\, Shepherdsville\, KY\, 40165\, United States
CATEGORIES:Workshops
ATTACH;FMTTYPE=image/png:https://littleflock.com/wp-content/uploads/2025/01/Grace-Marriage-March-4-scaled.png
END:VEVENT
BEGIN:VEVENT
DTSTART;TZID=America/Kentucky/Louisville:20260314T073000
DTEND;TZID=America/Kentucky/Louisville:20260314T090000
DTSTAMP:20260421T095650
CREATED:20250109T012155Z
LAST-MODIFIED:20260309T193835Z
UID:1221-1773473400-1773478800@littleflock.com
SUMMARY:The Foundry
DESCRIPTION:The Foundry – Where God’s Vision for Man Is Cast Men of Little Flock\, join us Saturday\, March 14 for a morning of encouragement and connection. \nTheater7:30–9:00 AMBreakfast Included \nCome be challenged and inspired as we sharpen one another to follow Christ faithfully. This monthly gathering is for all men who desire to grow in their walk with the Lord. \n 
URL:https://littleflock.com/event/the-foundry/
LOCATION:Little Flock Baptist Church\, 5510 N. Preston Highway\, Shepherdsville\, KY\, 40165\, United States
CATEGORIES:Bible Studies,LF Men's Menistry
ATTACH;FMTTYPE=image/png:https://littleflock.com/wp-content/uploads/2025/01/Foundry-March-4.png
END:VEVENT
BEGIN:VEVENT
DTSTART;TZID=America/Kentucky/Louisville:20260315T120000
DTEND;TZID=America/Kentucky/Louisville:20260315T140000
DTSTAMP:20260421T095650
CREATED:20260222T145244Z
LAST-MODIFIED:20260222T145259Z
UID:2329-1773576000-1773583200@littleflock.com
SUMMARY:Young Adults: Q&A Lunch
DESCRIPTION:Young Adults ages 18-29\, you’re invited! \nJoin us for Q & A Lunch on Sunday\, March 15\, from 12–2 PM in The Loft for a relaxed time of food\, fellowship\, and meaningful conversation. \nCome hang out with Pastor Brennan and Pastor Nate as we enjoy lunch together and talk about real life\, real faith\, and real questions. \nRegister today: https://bit.ly/YOUNGADULTLUNCH \nWe would love to see you there!
URL:https://littleflock.com/event/young-adults-qa-lunch/
LOCATION:Little Flock Baptist Church\, 5510 N. Preston Highway\, Shepherdsville\, KY\, 40165\, United States
CATEGORIES:LF Young Adults
ATTACH;FMTTYPE=image/png:https://littleflock.com/wp-content/uploads/2026/02/Young-Adult-Lunch-5.png
END:VEVENT
BEGIN:VEVENT
DTSTART;TZID=UTC:20260320T190000
DTEND;TZID=UTC:20260320T220000
DTSTAMP:20260421T095650
CREATED:20250224T211353Z
LAST-MODIFIED:20260317T225113Z
UID:1430-1774033200-1774044000@littleflock.com
SUMMARY:3rd-5th Grade Hangout
DESCRIPTION:Calling all 3rd–5th Graders! \nWe’re excited to invite your students to our 3rd–5th Grade Hang Out — a fun night of games\, friends\, and fellowship! \nFriday\, March 20 7:00–10:00 PMGym \nIt’s the perfect opportunity for kids to connect\, have fun\, and grow together in a positive\, Christ-centered environment. \nRegister today: https://bit.ly/LFKIDZHANGOUT \nWe can’t wait to see everyone there!
URL:https://littleflock.com/event/1430/
LOCATION:Little Flock Baptist Church\, 5510 N. Preston Highway\, Shepherdsville\, KY\, 40165\, United States
CATEGORIES:LF Kidz
ATTACH;FMTTYPE=image/png:https://littleflock.com/wp-content/uploads/2025/02/3rd-5th-Grade-Hangout-March-4.png
END:VEVENT
BEGIN:VEVENT
DTSTART;TZID=America/Kentucky/Louisville:20260321T080000
DTEND;TZID=America/Kentucky/Louisville:20260322T170000
DTSTAMP:20260421T095650
CREATED:20260201T165317Z
LAST-MODIFIED:20260201T165317Z
UID:2299-1774080000-1774198800@littleflock.com
SUMMARY:LF Students: Discipleship Now Weekend
DESCRIPTION:LF Students are invited to Discipleship Now (DNOW) Weekend 2026—a powerful weekend designed to help students grow deeper in their walk with Christ and with one another. \nThis year’s theme\, “Walk With Me” (Colossians 2:6–7)\, will encourage students to live rooted\, built up\, and strengthened in their faith as they follow Jesus daily. \nMarch 21–22\, 2026DNOW WeekendTeaching • Worship • Service ProjectTop Golf • Bonfire • Great FoodMeaningful time with friends \nWe are expectant for how God will work in the hearts of our students through worship\, biblical teaching\, service\, and intentional community. \nRegister today: https://bit.ly/LFSTUDENTSDNOW \nPlease continue praying for our students and leaders as we prepare for this impactful weekend.
URL:https://littleflock.com/event/lf-students-discipleship-now-weekend/
LOCATION:Little Flock Baptist Church\, 5510 N. Preston Highway\, Shepherdsville\, KY\, 40165\, United States
CATEGORIES:LF Students
ATTACH;FMTTYPE=image/png:https://littleflock.com/wp-content/uploads/2026/02/Walk-With-Me-DNOW-2026-4-scaled.png
END:VEVENT
BEGIN:VEVENT
DTSTART;TZID=America/Kentucky/Louisville:20260321T083000
DTEND;TZID=America/Kentucky/Louisville:20260321T100000
DTSTAMP:20260421T095650
CREATED:20250603T210956Z
LAST-MODIFIED:20260309T192938Z
UID:1685-1774081800-1774087200@littleflock.com
SUMMARY:Sisterhood
DESCRIPTION:LADIES OF LITTLE FLOCK\n\n\nYou are ALL invited to our Sisterhood gatherings! Join us on the 3rd Saturday of EVERY month for a time of fellowship and connection with other amazing women just like you.\n\n\nDATE Saturday\, March 21\nTIME 8:30 – 10:00 AM\n\nLOCATION Room 177 \n\n\n\nDon’t miss this opportunity to build meaningful relationships and grow together. See you there!
URL:https://littleflock.com/event/sisterhood/
LOCATION:Little Flock Baptist Church\, 5510 N. Preston Highway\, Shepherdsville\, KY\, 40165\, United States
CATEGORIES:LF Women's
ATTACH;FMTTYPE=image/png:https://littleflock.com/wp-content/uploads/2025/06/Sisterhood-March-4.png
END:VEVENT
BEGIN:VEVENT
DTSTART;TZID=UTC:20260322T121500
DTEND;TZID=UTC:20260322T134500
DTSTAMP:20260421T095650
CREATED:20250109T021606Z
LAST-MODIFIED:20260301T151042Z
UID:1234-1774181700-1774187100@littleflock.com
SUMMARY:5th Grade Lunch Outing
DESCRIPTION:5th graders\, it’s time for a lunch outing! \nWe’re excited for a fun afternoon together at Mr. Gatti’s on Sunday\, March 22 from 12:15–1:45 PM! This will be a great time to hang out with friends\, enjoy some good food\, and build even stronger connections as we grow together. \nCost: $20Register here: https://bit.ly/LFKIDZLUNCH \nSpots will fill quickly\, so be sure to sign up soon! We can’t wait to see our 5th graders there for a fantastic afternoon of food and fun.
URL:https://littleflock.com/event/lf-kidz-5th-grade-lunch-outing/
LOCATION:Little Flock Baptist Church\, 5510 N. Preston Highway\, Shepherdsville\, KY\, 40165\, United States
CATEGORIES:LF Kidz
ATTACH;FMTTYPE=image/png:https://littleflock.com/wp-content/uploads/2025/01/5th-Grade-Lunch-Outing-March-4.png
END:VEVENT
BEGIN:VEVENT
DTSTART;TZID=America/Kentucky/Louisville:20260329T120000
DTEND;TZID=America/Kentucky/Louisville:20260329T150000
DTSTAMP:20260421T095650
CREATED:20260323T225241Z
LAST-MODIFIED:20260323T225241Z
UID:2388-1774785600-1774796400@littleflock.com
SUMMARY:LF Young Adults: Louisville Bats Game
DESCRIPTION:Young Adults ages 18-29—let’s hang out at the ballpark! \nJoin us for a fun afternoon together at the Louisville Bats game on Sunday\, March 29. We’ll meet at Little Flock at 12:00 PM and head out together before the game starts at 1:00 PM. \nThis is a great opportunity to connect\, build community\, and enjoy a relaxed afternoon together. Invite a friend and come be part of it! \nWe look forward to spending the day with you.
URL:https://littleflock.com/event/lf-young-adults-louisville-bats-game/
ATTACH;FMTTYPE=image/png:https://littleflock.com/wp-content/uploads/2026/03/YA-Bats-Game-4.png
END:VEVENT
END:VCALENDAR